BEGIN:VCALENDAR
VERSION:2.0
PRODID:-//DELEGATES.US - ECPv6.15.20//NONSGML v1.0//EN
CALSCALE:GREGORIAN
METHOD:PUBLISH
X-ORIGINAL-URL:https://delegates.us
X-WR-CALDESC:Events for DELEGATES.US
REFRESH-INTERVAL;VALUE=DURATION:PT1H
X-Robots-Tag:noindex
X-PUBLISHED-TTL:PT1H
BEGIN:VTIMEZONE
TZID:UTC
BEGIN:STANDARD
TZOFFSETFROM:+0000
TZOFFSETTO:+0000
TZNAME:UTC
DTSTART:20200101T000000
END:STANDARD
END:VTIMEZONE
BEGIN:VTIMEZONE
TZID:America/New_York
BEGIN:DAYLIGHT
TZOFFSETFROM:-0500
TZOFFSETTO:-0400
TZNAME:EDT
DTSTART:20220313T070000
END:DAYLIGHT
BEGIN:STANDARD
TZOFFSETFROM:-0400
TZOFFSETTO:-0500
TZNAME:EST
DTSTART:20221106T060000
END:STANDARD
BEGIN:DAYLIGHT
TZOFFSETFROM:-0500
TZOFFSETTO:-0400
TZNAME:EDT
DTSTART:20230312T070000
END:DAYLIGHT
BEGIN:STANDARD
TZOFFSETFROM:-0400
TZOFFSETTO:-0500
TZNAME:EST
DTSTART:20231105T060000
END:STANDARD
BEGIN:DAYLIGHT
TZOFFSETFROM:-0500
TZOFFSETTO:-0400
TZNAME:EDT
DTSTART:20240310T070000
END:DAYLIGHT
BEGIN:STANDARD
TZOFFSETFROM:-0400
TZOFFSETTO:-0500
TZNAME:EST
DTSTART:20241103T060000
END:STANDARD
END:VTIMEZONE
BEGIN:VEVENT
DTSTART;VALUE=DATE:20240429
DTEND;VALUE=DATE:20240503
DTSTAMP:20260423T171318
CREATED:20240228T001357Z
LAST-MODIFIED:20260320T121730Z
UID:4485-1714348800-1714694399@delegates.us
SUMMARY:Taking Action at Congress IV
DESCRIPTION:Registro
URL:https://delegates.us/event/tomadeaccion/
LOCATION:Washington\, DC
ORGANIZER;CN="Delegates.US":MAILTO:webtech@delegates.us
END:VEVENT
BEGIN:VEVENT
DTSTART;VALUE=DATE:20230930
DTEND;VALUE=DATE:20231001
DTSTAMP:20260423T171318
CREATED:20230901T160517Z
LAST-MODIFIED:20230901T160517Z
UID:4412-1696032000-1696118399@delegates.us
SUMMARY:Become a Delegate: Lakeland Hispanic Festival
DESCRIPTION:
URL:https://delegates.us/event/become-a-delegate-lakeland-hispanic-festival/
ORGANIZER;CN="Delegates.US":MAILTO:webtech@delegates.us
END:VEVENT
BEGIN:VEVENT
DTSTART;TZID=America/New_York:20230923T140000
DTEND;TZID=America/New_York:20230923T160000
DTSTAMP:20260423T171318
CREATED:20230901T165512Z
LAST-MODIFIED:20230901T165512Z
UID:4419-1695477600-1695484800@delegates.us
SUMMARY:Become a Delegate: Distrito Bayamón
DESCRIPTION:
URL:https://delegates.us/event/become-a-delegate-distrito-bayamon/
ORGANIZER;CN="Delegates.US":MAILTO:webtech@delegates.us
END:VEVENT
BEGIN:VEVENT
DTSTART;TZID=America/New_York:20230916T100000
DTEND;TZID=America/New_York:20230916T130000
DTSTAMP:20260423T171318
CREATED:20230901T160144Z
LAST-MODIFIED:20230901T160144Z
UID:4408-1694858400-1694869200@delegates.us
SUMMARY:Become a Delegate: Florida - Santiago's Market
DESCRIPTION:
URL:https://delegates.us/event/become-a-delegate-florida-santiagos-market/
ORGANIZER;CN="Delegates.US":MAILTO:webtech@delegates.us
END:VEVENT
BEGIN:VEVENT
DTSTART;VALUE=DATE:20230605
DTEND;VALUE=DATE:20230608
DTSTAMP:20260423T171318
CREATED:20230425T150029Z
LAST-MODIFIED:20230425T150200Z
UID:4335-1685923200-1686182399@delegates.us
SUMMARY:La Toma de Acción en el Congreso III
DESCRIPTION:¡Hermano Estadista! \nQueremos invitarle formalmente al evento: La Toma de Acción en el Congreso III\nEl mismo se llevará a cabo los días 5 al 7 de Junio en Washington\, DC.  \n¡Los esperamos! \nComplete su registro para el evento aquí:
URL:https://delegates.us/event/congreso/
LOCATION:Washington\, DC
ORGANIZER;CN="Delegates.US":MAILTO:webtech@delegates.us
END:VEVENT
BEGIN:VEVENT
DTSTART;VALUE=DATE:20220713
DTEND;VALUE=DATE:20220716
DTSTAMP:20260423T171318
CREATED:20220617T161746Z
LAST-MODIFIED:20220623T220834Z
UID:3524-1657670400-1657929599@delegates.us
SUMMARY:Impacto Estadista 3
DESCRIPTION:¡Hermano Estadista! \nQueremos invitarle formalmente al evento: Impacto Estadista 3!\nEl mismo se llevará a cabo del 13 al 15 de Julio en Washington\, DC.  \n¡Los esperamos! \nComplete su registración para el evento aquí:
URL:https://delegates.us/event/impactoestadista/
ORGANIZER;CN="Delegates.US":MAILTO:webtech@delegates.us
END:VEVENT
BEGIN:VEVENT
DTSTART;VALUE=DATE:20220610
DTEND;VALUE=DATE:20220611
DTSTAMP:20260423T171318
CREATED:20220531T171955Z
LAST-MODIFIED:20220531T172115Z
UID:3503-1654819200-1654905599@delegates.us
SUMMARY:Delegates Takes Over - Guayama
DESCRIPTION:DelegatesTakesOver en #Guayama\n📍 Centro de convenciones Tito Curet\n⏰ 10AM\n🗓 Junio 4\, 2022\n¡Los esperamos!
URL:https://delegates.us/event/delegates-takeover-guayama/
END:VEVENT
BEGIN:VEVENT
DTSTART;VALUE=DATE:20220506
DTEND;VALUE=DATE:20220507
DTSTAMP:20260423T171318
CREATED:20220501T003749Z
LAST-MODIFIED:20220501T003749Z
UID:3359-1651795200-1651881599@delegates.us
SUMMARY:Puerto Rican Grassroots Congressional District Event - California
DESCRIPTION:Este próximo 6 de mayo estaremos en Los Angeles\, California. Queremos levantar una estructura sólida en California ¡Necesitamos tu ayuda! Si tienes familiares o amigo que residen en esta área\, motívalos a que se unan a delegates.us y nos escriban al 717-990-1437.
URL:https://delegates.us/event/puerto-rican-grassroots-congressional-district-event-california/
END:VEVENT
BEGIN:VEVENT
DTSTART;TZID=UTC:20211202T160000
DTEND;TZID=UTC:20211227T180000
DTSTAMP:20260423T171318
CREATED:20210806T042844Z
LAST-MODIFIED:20210806T042844Z
UID:2090-1638460800-1640628000@delegates.us
SUMMARY:Conferencia de la Asociación de Educación
DESCRIPTION:
URL:https://delegates.us/event/conferencia-de-la-asociacion-de-educacion/
LOCATION:Concert Hall “Cinema City”\, 350 5th Ave\, New York\, NY 10118\, USA
ORGANIZER;CN="Jack Well":MAILTO:name@example.com
END:VEVENT
END:VCALENDAR